BEGIN:VCALENDAR
VERSION:2.0
PRODID:-//wp-events-plugin.com//7.2.3.1//EN
TZID:Europe/Berlin
X-WR-TIMEZONE:Europe/Berlin
BEGIN:VEVENT
UID:182@feuerwehr-norden.de
DTSTART;TZID=Europe/Berlin;VALUE=DATE:20260605
DTEND;TZID=Europe/Berlin;VALUE=DATE:20260608
DTSTAMP:20250716T195432Z
URL:https://www.feuerwehr-norden.de/events/interschutz-2026/
SUMMARY:Interschutz 2026
DESCRIPTION:Fahrt zur INTERSCHUTZ 2026 in Hannover\n\nTermin: 05.06.2026 
– 07.06.2026\n\nAuch 2026 bieten wir wieder eine gemeinsame Fahrt zur IN
TERSCHUTZ nach Hannover an – der internationalen Leitmesse für Feuerweh
r\, Rettungswesen\, Bevölkerungsschutz und Sicherheit.\n\nAblauf:\n\n Ge
meinsame Anreise mit dem Bus am Freitag\, 05.06.2026 (Uhrzeit folgt)\n Am
Samstag\, 06.06.2026 besuchen wir gemeinsam die Messe\n Der Festausschus
s kümmert sich wie gewohnt um ein passendes Rahmenprogramm\n Rückfahrt 
ist am Sonntag\, 07.06.2026\n\nUnterkunft &amp\; Kosten:\n\n Einzelzimmer
: 240 € pro Person (für 2 Nächte)\n Doppelzimmer: 286 € insgesamt (
für 2 Nächte / 2 Personen)\n\n\n Wichtig: Bei der Buchung eines Doppelz
immers bitte angeben\, mit wem das Zimmer geteilt wird.\n Mit der Buchung
eines Doppelzimmers werden automatisch zwei Plätze im Bus reserviert!\n\
n\n \n\nZahlung:\n\nBitte den jeweiligen Betrag überweisen an:\n\nFörde
rverein der Freiwilligen Feuerwehr der Stadt Norden e. V.\n\nIBAN: DE77 28
35 0000 0000 0012 97\n\nBIC: BRLADE21ANO\n\nVerwendungszweck: Interschutz 
– Einzelzimmer oder Doppelzimmer / Zahlung für [Name (Namen)]\n\nHinwei
se:\n\n Die Buskosten übernimmt wie gewohnt der Förderverein \n Messe
-Tickets sind nicht im Preis enthalten und müssen von den Teilnehmern sel
bst organisiert werden.\n Eine Erstattung der Hotelkosten ist nicht mögl
ich. Bei Verhinderung muss eigenständig für Ersatz gesorgt werden.\n\nJe
tzt anmelden und dabei sein – wir freuen uns auf ein spannendes Wochenen
de mit euch!\n\n&nbsp\;\n\nDie Zimmer müssen in 8 Wochen angemeldet sein.
\nBis dahin müssen alle gebucht haben!!
ATTACH;FMTTYPE=image/jpeg:https://www.feuerwehr-norden.de/public/uploads/2
025/04/events/interschutz-2026/AE3C5593-54CD-456A-B894-716BDDD184DE.png
CATEGORIES:Wehrveranstaltung
END:VEVENT
BEGIN:VTIMEZONE
TZID:Europe/Berlin
X-LIC-LOCATION:Europe/Berlin
BEGIN:DAYLIGHT
DTSTART:20260329T030000
TZOFFSETFROM:+0100
TZOFFSETTO:+0200
TZNAME:CEST
END:DAYLIGHT
END:VTIMEZONE
END:VCALENDAR